BEGIN:VCALENDAR
VERSION:2.0
PRODID:-//Launchpad Southend - ECPv6.15.20//NONSGML v1.0//EN
CALSCALE:GREGORIAN
METHOD:PUBLISH
X-WR-CALNAME:Launchpad Southend
X-ORIGINAL-URL:https://www.launchpadsouthend.co.uk
X-WR-CALDESC:Events for Launchpad Southend
REFRESH-INTERVAL;VALUE=DURATION:PT1H
X-Robots-Tag:noindex
X-PUBLISHED-TTL:PT1H
BEGIN:VTIMEZONE
TZID:UTC
BEGIN:STANDARD
TZOFFSETFROM:+0000
TZOFFSETTO:+0000
TZNAME:UTC
DTSTART:20250101T000000
END:STANDARD
END:VTIMEZONE
BEGIN:VEVENT
DTSTART;TZID=UTC:20260114T100000
DTEND;TZID=UTC:20260114T120000
DTSTAMP:20260419T203413
CREATED:20260109T142145Z
LAST-MODIFIED:20260109T142820Z
UID:1698-1768384800-1768392000@www.launchpadsouthend.co.uk
SUMMARY:Online Digital Marketing Workshop
DESCRIPTION:Master the Skills to Thrive Online with this Digital Marketing Workshop\, presented by Heavyweight Digital.\n\n\n\nStep into the fast-paced world of digital marketing with this practical and insightful Digital Marketing Workshop online or in person in Braintree with our amazing Speaker Heavyweight Digital Ltd. \nThis workshop will provide an overview of four key digital marketing services that support business growth: \n\nGoogle Ads\nMeta Ads (Facebook & Instagram)\nSearch Engine Optimisation (SEO)\nOrganic Social Media\n\nFor each channel\, we will explain its purpose and how it can be used effectively within a marketing strategy. Attendees will see practical examples of ads\, posts\, and organic search listings\, alongside clear guidance on the typical investment required — including time\, budget\, or a combination of both. \nThe session will also include simple\, step-by-step guidance to help participants understand how to get started with each service\, enabling them to make informed decisions about where to focus their marketing efforts. \nThis workshop is ideal for business owners and entrepreneurs looking to improve their digital presence and choose the right marketing channels for their business.
URL:https://www.launchpadsouthend.co.uk/event/1698/
LOCATION:online workshop
CATEGORIES:Marketing,Workshop
ATTACH;FMTTYPE=image/jpeg:https://www.launchpadsouthend.co.uk/wp-content/uploads/2026/01/https___cdn.evbuc_.com_images_1171722130_2763547462721_1_original-1.jpg
END:VEVENT
END:VCALENDAR