BEGIN:VCALENDAR
VERSION:2.0
PRODID:-//Launchpad Southend - ECPv6.15.20//NONSGML v1.0//EN
CALSCALE:GREGORIAN
METHOD:PUBLISH
X-ORIGINAL-URL:https://www.launchpadsouthend.co.uk
X-WR-CALDESC:Events for Launchpad Southend
REFRESH-INTERVAL;VALUE=DURATION:PT1H
X-Robots-Tag:noindex
X-PUBLISHED-TTL:PT1H
BEGIN:VTIMEZONE
TZID:UTC
BEGIN:STANDARD
TZOFFSETFROM:+0000
TZOFFSETTO:+0000
TZNAME:UTC
DTSTART:20240101T000000
END:STANDARD
END:VTIMEZONE
BEGIN:VEVENT
DTSTART;TZID=UTC:20251216T093000
DTEND;TZID=UTC:20251216T100000
DTSTAMP:20260419T221640
CREATED:20251118T150402Z
LAST-MODIFIED:20251118T150402Z
UID:1642-1765877400-1765879200@www.launchpadsouthend.co.uk
SUMMARY:Using AI in Bid Writing – Opportunities and Risks
DESCRIPTION:Essex Growth Agency is pleased to offer this free webinar for businesses and organisations across Essex. Join us for an insightful session on how Artificial Intelligence is shaping the future of bid writing. Discover practical ways AI can support your bidding process\, the potential risks involved\, and expert tips to improve success rates. \nDate: 16th December 2025\nTime: 09:30 AM – 10:00 AM \nAgenda: \n\nIntroduction – Overview of Thornton & Lowe\nThe Importance of Effective Writing – How strong writing impacts success rates\nWhat’s Involved in Writing – Key considerations for a winning bid\nHow AI Can Help – Practical applications for bid writing\nHow AI Can Be a Risk – Understanding limitations and compliance issues\nQ&A Session – Your questions answered\n\nSpeaker:\nCharles Grosstephan\, Director of Development\, Thornton & Lowe \nAbout Thornton & Lowe:\nThornton & Lowe is a leading Bid Management and Bid Writing Consultancy with a success rate of nearly 80%\, supporting businesses across all sectors nationwide to plan and secure contracts and frameworks.
URL:https://www.launchpadsouthend.co.uk/event/using-ai-in-bid-writing-opportunities-and-risks/
LOCATION:Online
CATEGORIES:AI,Learning and development
ATTACH;FMTTYPE=image/jpeg:https://www.launchpadsouthend.co.uk/wp-content/uploads/2025/11/download.jpg
END:VEVENT
END:VCALENDAR