BEGIN:VCALENDAR
VERSION:2.0
PRODID:-//Launchpad Southend - ECPv6.15.20//NONSGML v1.0//EN
CALSCALE:GREGORIAN
METHOD:PUBLISH
X-ORIGINAL-URL:https://www.launchpadsouthend.co.uk
X-WR-CALDESC:Events for Launchpad Southend
REFRESH-INTERVAL;VALUE=DURATION:PT1H
X-Robots-Tag:noindex
X-PUBLISHED-TTL:PT1H
BEGIN:VTIMEZONE
TZID:UTC
BEGIN:STANDARD
TZOFFSETFROM:+0000
TZOFFSETTO:+0000
TZNAME:UTC
DTSTART:20240101T000000
END:STANDARD
END:VTIMEZONE
BEGIN:VEVENT
DTSTART;TZID=UTC:20250820T100000
DTEND;TZID=UTC:20250820T113000
DTSTAMP:20260420T043508
CREATED:20250812T093842Z
LAST-MODIFIED:20250812T093842Z
UID:1470-1755684000-1755689400@www.launchpadsouthend.co.uk
SUMMARY:August Virtual Networking - Free For All
DESCRIPTION:Expand Your Horizons: Join Our Free For All Virtual Networking Event!  \nReady to grow your professional network and spark new opportunities? We’re excited to invite members and non-members to experience our popular virtual networking. These events offer an open\, engaging space for professionals from all industries to connect\, collaborate\, and thrive. \nThis interactive and informal experience makes connecting easy and enjoyable\, offering the chance to engage with a diverse range of professionals\, many you might not have encountered otherwise. With dynamic breakout rooms\, you’ll reconnect with familiar faces and forge new partnerships that could drive your business forward. \nOpen to everyone in the Essex business community and beyond. \nDon’t miss this chance to build your network and explore what’s possible! \nDate:   Wednesday 20 August 10.00am to 11.30am \nPlatform:   Zoom\nCost:   FREE for All\nOnly TWO attendees per company \nAgenda \n9.50am – Sign into Zoom Meeting\n10.00am – Welcome introduction from a Client Relationship Manager\n10.05am – Networking\n11.30am – Meeting finishes
URL:https://www.launchpadsouthend.co.uk/event/august-virtual-networking-free-for-all/
LOCATION:Zoom
CATEGORIES:Networking
ATTACH;FMTTYPE=image/png:https://www.launchpadsouthend.co.uk/wp-content/uploads/2025/08/51ce99c180a9b-1.png
END:VEVENT
END:VCALENDAR