BEGIN:VCALENDAR
VERSION:2.0
PRODID:-//Launchpad Southend - ECPv6.15.20//NONSGML v1.0//EN
CALSCALE:GREGORIAN
METHOD:PUBLISH
X-WR-CALNAME:Launchpad Southend
X-ORIGINAL-URL:https://www.launchpadsouthend.co.uk
X-WR-CALDESC:Events for Launchpad Southend
REFRESH-INTERVAL;VALUE=DURATION:PT1H
X-Robots-Tag:noindex
X-PUBLISHED-TTL:PT1H
BEGIN:VTIMEZONE
TZID:UTC
BEGIN:STANDARD
TZOFFSETFROM:+0000
TZOFFSETTO:+0000
TZNAME:UTC
DTSTART:20240101T000000
END:STANDARD
END:VTIMEZONE
BEGIN:VEVENT
DTSTART;TZID=UTC:20250707T140000
DTEND;TZID=UTC:20250707T150000
DTSTAMP:20260420T060616
CREATED:20250703T114716Z
LAST-MODIFIED:20250703T114716Z
UID:1405-1751896800-1751900400@www.launchpadsouthend.co.uk
SUMMARY:US Trade Tariffs Webinar
DESCRIPTION:Behind the Tariffs: What 2025 Means for Your Supply Chain & Customs Strategy \nRecent changes to US tariffs have created new challenges and considerations for UK businesses trading with the United States. If you are exporting goods into the US it is essential to understand how these updated tariffs may impact your supply chain\, pricing\, and compliance requirements. \nJoin our experts – Richard Bartlett from Export Unlocked (UK) and Angela Aaron\, Senior Compliance Director at KlearNow AI (US)\, for an in-depth look at: \n\nThe latest US Trade Tariffs\nThe evolving UK–US trade deal\nHow to stay tariff-savvy in a volatile trade environment\n\nWe will explore how to assess your exposure to supply chain disruption and implement smarter\, more resilient strategies.\nDate:  Monday 7 July  2.00pm – 3.00pm\nPlatform:  Zoom\nCost: FREE for Members   Non-Members £25.00 + VAT\nEnsure your business is prepared for the evolving trade landscape\, register now!
URL:https://www.launchpadsouthend.co.uk/event/us-trade-tariffs-webinar/
LOCATION:Zoom
CATEGORIES:Learning and development
ATTACH;FMTTYPE=image/png:https://www.launchpadsouthend.co.uk/wp-content/uploads/2025/07/93f38c40f921d.png
END:VEVENT
END:VCALENDAR