BEGIN:VCALENDAR
VERSION:2.0
PRODID:-//Launchpad Southend - ECPv6.15.20//NONSGML v1.0//EN
CALSCALE:GREGORIAN
METHOD:PUBLISH
X-WR-CALNAME:Launchpad Southend
X-ORIGINAL-URL:https://www.launchpadsouthend.co.uk
X-WR-CALDESC:Events for Launchpad Southend
REFRESH-INTERVAL;VALUE=DURATION:PT1H
X-Robots-Tag:noindex
X-PUBLISHED-TTL:PT1H
BEGIN:VTIMEZONE
TZID:UTC
BEGIN:STANDARD
TZOFFSETFROM:+0000
TZOFFSETTO:+0000
TZNAME:UTC
DTSTART:20240101T000000
END:STANDARD
END:VTIMEZONE
BEGIN:VEVENT
DTSTART;TZID=UTC:20250318T160000
DTEND;TZID=UTC:20250318T183000
DTSTAMP:20260420T122026
CREATED:20250204T110503Z
LAST-MODIFIED:20250204T110503Z
UID:1081-1742313600-1742322600@www.launchpadsouthend.co.uk
SUMMARY:Networking with the Radisson Blu Hotel & MAG London Stansted Airport
DESCRIPTION:oin us at the Radisson Blu Stansted for our Networking Event Featuring MAG London Stansted Airport’s Growth Update \nSet in the iconic Radisson Blu\, located at London Stansted Airport\, this networking event brings together professionals from diverse industries for an evening of collaboration\, insight\, and opportunity. \nThis special event will feature MAG London Stansted Airport’s Chief Asset and Development Director\, Mike Hardaker\, as the keynote guest speaker. Mike will present an engaging talk on the airports plans for growth\, offering valuable perspectives on the future of one of the UK’s leading airports. \nThere will also be an interactive Q&A session where you will have the unique opportunity to ask questions directly to Mike Hardaker about the airports projects and business opportunities. \nDuring the event\, attendees will enjoy refreshments\, themed buffet dinner and Cocktail Bar\, with stunning views of the hotel’s renowned Wine Tower. There will also be the opportunity to tour the hotels amazing corporate facilities. \nWhether you’re looking to grow your business network\, exchange ideas\, or stay ahead of industry trends\, this event is your gateway to new opportunities. \nDate:   Tuesday 18 March   4.00pm – 6.30pm\nVenue:   Radisson Blu Hotel. London Stansted Airport\, Waltham Close\, Stansted CM24 1PP\nCosts to attend:   Members  £30.00 + VAT  Non Members  £50 + VAT\nOnly TWO attendees per Company \nEvent Agenda – Subject to change \n•    4.00pm – Registration\, refreshments & networkin\n•    4.30pm – Welcome from Essex Chambers\n•    4.35pm – Welcome from Radisson Blu\n•    4.40pm – Presentation from MAG LSA & Q&A session\n•    5.20pm – Buffet and networking\n•    5.45pm – Tours of the hotel facilities\n•    6.30pm – Event ends \n \nMike Hardaker is the Chief Asset and Development Director at Manchester Airport Group (MAG) London Stansted Airport. He has responsibility for capital spend and infrastructure development at the airport. This is a critical role for the airport and for the region’s growth – following Manchester Airport Group’s £1.1bn capital investment announcement earlier this year\, which will help the airport facilitate its continuing growth in passenger numbers. \nBefore joining MAG Mike was the Major Projects Director for Transport for London and spent 10 years in the Middle East with Dubai Airports as Development Director.
URL:https://www.launchpadsouthend.co.uk/event/networking-with-the-radisson-blu-hotel-mag-london-stansted-airport/
LOCATION:Radission Blu Hotel\, London Stansted Airport\, Waltham Close\, Stanstead\, Essex\, CM24 1PP
CATEGORIES:Networking
ATTACH;FMTTYPE=image/jpeg:https://www.launchpadsouthend.co.uk/wp-content/uploads/2025/02/21baab7569a7f.jpg
END:VEVENT
END:VCALENDAR