BEGIN:VCALENDAR
VERSION:2.0
PRODID:-//Launchpad Southend - ECPv6.15.20//NONSGML v1.0//EN
CALSCALE:GREGORIAN
METHOD:PUBLISH
X-ORIGINAL-URL:https://www.launchpadsouthend.co.uk
X-WR-CALDESC:Events for Launchpad Southend
REFRESH-INTERVAL;VALUE=DURATION:PT1H
X-Robots-Tag:noindex
X-PUBLISHED-TTL:PT1H
BEGIN:VTIMEZONE
TZID:UTC
BEGIN:STANDARD
TZOFFSETFROM:+0000
TZOFFSETTO:+0000
TZNAME:UTC
DTSTART:20240101T000000
END:STANDARD
END:VTIMEZONE
BEGIN:VEVENT
DTSTART;TZID=UTC:20250305T103000
DTEND;TZID=UTC:20250305T130000
DTSTAMP:20260420T122244
CREATED:20250110T142930Z
LAST-MODIFIED:20250110T142930Z
UID:1001-1741170600-1741179600@www.launchpadsouthend.co.uk
SUMMARY:Using video and AI for marketing
DESCRIPTION:The video and AI marketing workshop provides an exploration of the benefits of using video for marketing\, starting with the definition of a brand and the nuances of personal branding. Participants learn practical steps for creating video\, illustrated by a case study. The workshop also covers key aspects of the role of video in SEO to boost online presence and the importance of leveraging social media platforms for business growth. Finally\, the workshop presents the latest AI tools which business leaders can implement to help grow their business and streamline operations. \nThis workshop equips attendees with essential knowledge and skills to effectively establish and promote their brand in the competitive digital marketplace. \nThe workshop will take place at Langdon Hills Golf and Country Club\, Lower Dunton Rd\, Bulphan\, Upminster\, Essex RM14 3TY \n——————————————————————————————– \nThis project is funded by the UK Government through the UK Shared Prosperity Fund. \nThe UK Shared Prosperity Fund is a central pillar of the UK government’s Levelling Up agenda and provides £2.6 billion of funding for local investment by March 2025. The Fund aims to improve pride in place and increase life chances across the UK investing in communities and place\, supporting local business\, and people and skills. For more information\, visit https://www.gov.uk/government/publications/uk-shared-prosperity-fund-prospectus
URL:https://www.launchpadsouthend.co.uk/event/using-video-and-ai-for-marketing/
LOCATION:Langdon Hills Golf Country Club & Hotel\, Lower Dunton Road\, Horndon on the Hill\, RM14 3TY\, United Kingdom
CATEGORIES:Learning and development,Workshop
ATTACH;FMTTYPE=image/png:https://www.launchpadsouthend.co.uk/wp-content/uploads/2025/01/original.png
END:VEVENT
END:VCALENDAR