BEGIN:VCALENDAR
VERSION:2.0
PRODID:-//Launchpad Southend - ECPv6.15.20//NONSGML v1.0//EN
CALSCALE:GREGORIAN
METHOD:PUBLISH
X-ORIGINAL-URL:https://www.launchpadsouthend.co.uk
X-WR-CALDESC:Events for Launchpad Southend
REFRESH-INTERVAL;VALUE=DURATION:PT1H
X-Robots-Tag:noindex
X-PUBLISHED-TTL:PT1H
BEGIN:VTIMEZONE
TZID:UTC
BEGIN:STANDARD
TZOFFSETFROM:+0000
TZOFFSETTO:+0000
TZNAME:UTC
DTSTART:20240101T000000
END:STANDARD
END:VTIMEZONE
BEGIN:VEVENT
DTSTART;TZID=UTC:20250303T090000
DTEND;TZID=UTC:20250303T120000
DTSTAMP:20260420T123211
CREATED:20241223T112239Z
LAST-MODIFIED:20241223T112239Z
UID:976-1740992400-1741003200@www.launchpadsouthend.co.uk
SUMMARY:Taming your imposter: supporting female leaders in developing greater self-acceptance
DESCRIPTION:The University of Essex presents a group coaching course where participants will work with a coach to face their imposter\, gain self-awareness around their identity\, develop greater self-acceptance\, and take positive actions for long-lasting change. \nDo you doubt your skills and competence? Maybe you have an intense fear of failure? Are you low on self-confidence? Do you set yourself impossibly high standards beyond reach? Or perhaps you credit your success to external factors\, such as luck? Has this impacted your leadership and how you interact with your team? \nEveryone experiences impostor syndrome slightly differently\, but if you have answered ‘yes’ to one or more of those questions\, then come and explore how you can start to take some positive steps to free yourself from your imposter and develop a plan of action to live the life you deserve. \nThis course will take place in a group\, online live for 3-hours from 9am to 12pm (UK time) on 3 March 2025. \nThe fee for this course is £210.
URL:https://www.launchpadsouthend.co.uk/event/taming-your-imposter-supporting-female-leaders-in-developing-greater-self-acceptance/
LOCATION:Online
CATEGORIES:Learning and development
ATTACH;FMTTYPE=image/jpeg:https://www.launchpadsouthend.co.uk/wp-content/uploads/2024/12/th.jpg
END:VEVENT
END:VCALENDAR