BEGIN:VCALENDAR
VERSION:2.0
PRODID:-//Launchpad Southend - ECPv6.15.20//NONSGML v1.0//EN
CALSCALE:GREGORIAN
METHOD:PUBLISH
X-ORIGINAL-URL:https://www.launchpadsouthend.co.uk
X-WR-CALDESC:Events for Launchpad Southend
REFRESH-INTERVAL;VALUE=DURATION:PT1H
X-Robots-Tag:noindex
X-PUBLISHED-TTL:PT1H
BEGIN:VTIMEZONE
TZID:UTC
BEGIN:STANDARD
TZOFFSETFROM:+0000
TZOFFSETTO:+0000
TZNAME:UTC
DTSTART:20230101T000000
END:STANDARD
END:VTIMEZONE
BEGIN:VEVENT
DTSTART;TZID=UTC:20241113T100000
DTEND;TZID=UTC:20241113T150000
DTSTAMP:20260420T190848
CREATED:20240906T084817Z
LAST-MODIFIED:20240906T085006Z
UID:843-1731492000-1731510000@www.launchpadsouthend.co.uk
SUMMARY:Essex Chamber of Commerce Festival of Business
DESCRIPTION:Seize the opportunities at the most anticipated business extravaganza in Essex! \nAfter its success for the last two years\, we are delighted to bring you our third Festival of Business on Wednesday 13 November 2024\, from 10.00am until 3.00pm at Chelmsford City Racecourse. \nThis dynamic event is set to transform the business landscape in Essex\, bringing together an innovative fusion of Business Expo and Jobs Fair. Whether you are an entrepreneur looking to elevate your brand\, a job seeker in pursuit of new opportunities\, or a business looking to expand your team\, the Festival of Business is designed for you. \nFor the first time we will also be celebrating excellence\, innovation\, and outstanding achievement\, as the Festival introduces the Essex has Talent – Best in Business Award. \n🌟Showcase Your Business Brilliance: Elevate your brand by participating in our exclusive Business Expo. Highlight your products and services to our visitors from across the county. \n⭐Bridging Talent and Opportunity: Are you ready to take the next step in your career or find exceptional talent for your team? Look no further! The Jobs Fair is your gateway to new opportunities and top-notch talent. \n🌟Key-note Speakers: Our speakers programme brings a wealth of knowledge\, experience\, and inspiration to the Festival\, that will engage and motivate you to success. \n⭐Network with Industry Peers: Forge valuable connections with top-tier professionals\, entrepreneurs\, and industry leaders. Expand your network and discover new opportunities for collaboration and growth. \n🌟Excellence Deserves Recognition: Get ready to witness the crowning of the best of the best at the Essex Has Talent – Best in Business Awards.
URL:https://www.launchpadsouthend.co.uk/event/essex-chamber-of-commerce-festival-of-business/
LOCATION:Chelmsford City Racecourse\, Chelmsford\, Essex\, CM3 1QP\, United Kingdom
CATEGORIES:Awards,Networking
ATTACH;FMTTYPE=image/png:https://www.launchpadsouthend.co.uk/wp-content/uploads/2024/09/Festival-of-Business-November-2024.png
END:VEVENT
END:VCALENDAR