BEGIN:VCALENDAR
VERSION:2.0
PRODID:-//Launchpad Southend - ECPv6.15.20//NONSGML v1.0//EN
CALSCALE:GREGORIAN
METHOD:PUBLISH
X-WR-CALNAME:Launchpad Southend
X-ORIGINAL-URL:https://www.launchpadsouthend.co.uk
X-WR-CALDESC:Events for Launchpad Southend
REFRESH-INTERVAL;VALUE=DURATION:PT1H
X-Robots-Tag:noindex
X-PUBLISHED-TTL:PT1H
BEGIN:VTIMEZONE
TZID:UTC
BEGIN:STANDARD
TZOFFSETFROM:+0000
TZOFFSETTO:+0000
TZNAME:UTC
DTSTART:20240101T000000
END:STANDARD
END:VTIMEZONE
BEGIN:VEVENT
DTSTART;TZID=UTC:20251105T100000
DTEND;TZID=UTC:20251105T150000
DTSTAMP:20260419T221440
CREATED:20250217T133618Z
LAST-MODIFIED:20250217T133618Z
UID:1142-1762336800-1762354800@www.launchpadsouthend.co.uk
SUMMARY:Festival of Business: Building a Greater Essex
DESCRIPTION:Back for its fourth year\, our premier event for businesses across Essex to connect\, collaborate\, and celebrate success will be held on Wednesday 5 November\, from 10.00am until 3.00pm at Chelmsford City Racecourse. \nEssex is a powerhouse of innovation\, enterprise\, and opportunity\, making this year’s theme “Building a Greater Essex” the perfect place to focus on strengthening our local economy\, celebrating innovation\, and helping businesses connect and grow. \nFrom its strategic location as a logistics and distribution hub\, to its cutting-edge advancements in manufacturing\, engineering\, and digital technology\, Essex is shaping the future of business. Creative industries are thriving\, while financial services\, life sciences\, and healthcare drive growth and innovation. With its vibrant tourism sector\, rich agricultural heritage\, and leadership in renewable energy\, Essex is a county of endless possibilities. \nJoin us\, and Main Sponsors – Essex County Council\, as we showcase the incredible businesses\, partnerships\, and opportunities that are “Building a Greater Essex” for everyone! \n🏗️ Event Highlights include: \nBusiness Expo: Explore a dynamic showcase of local businesses and organisations across various industries. From established enterprises to emerging innovators\, this is your chance to discover new products\, services\, and partnership opportunities. \nInspiring Speakers: Hear from our lineup of keynote speakers and panel discussions which will provide valuable insights into emerging trends\, strategies for growth\, and stories of success. \nBest in Business Award: Celebrate excellence in Essex! The Festival’s prestigious Business Award recognises outstanding achievements across categories such as innovation\, sustainability\, and community impact. Join us in honouring the businesses and individuals who are making a difference in our region. \nNetworking Opportunities: Forge meaningful connections with fellow professionals\, entrepreneurs\, and industry leaders. Whether you’re looking to expand your network\, collaborate on new projects\, or simply share ideas\, the Festival offers unparalleled opportunities to engage with the Essex business community.
URL:https://www.launchpadsouthend.co.uk/event/festival-of-business-building-a-greater-essex/
LOCATION:Chelmsford City Racecourse\, Chelmsford\, Essex\, CM3 1QP\, United Kingdom
CATEGORIES:Awards,Festival Of Business
ATTACH;FMTTYPE=image/png:https://www.launchpadsouthend.co.uk/wp-content/uploads/2025/02/FoBLogo25.png
END:VEVENT
BEGIN:VEVENT
DTSTART;TZID=UTC:20251111T100000
DTEND;TZID=UTC:20251111T130000
DTSTAMP:20260419T221440
CREATED:20250930T132018Z
LAST-MODIFIED:20250930T132018Z
UID:1574-1762855200-1762866000@www.launchpadsouthend.co.uk
SUMMARY:Introduction to Social Media Marketing
DESCRIPTION:Want learn how to use social media to market your business effectively? Join this short course from Let’s Do Marketing to learn how to create your social media strategy for success – and come away with the knowledge\, skills and confidence to start connecting with your customers online! \nGet to know more about social media channels and what they can do for your business\, how to use them effectively\, as well as create award winning and eye catching content to resonate with your customers. Get a better understanding on tools and software to make your social media marketing a breeze\, and learn more about the possibilities with Social Media Marketing. \nEvent details:\nTime: 10am – 1pm \nLocation: Online (ZOOM) \nCost: £35pp \nDuring this course\, we’ll cover:\n\n\nThe basics – understanding how marketing relates to social media and vice versa\n\n\n\n\nThe characteristics of each social media channel\, how to determine which one is right for your business (or all of them!)\, as well as how to use the most popular channels Facebook\, Instagram and LinkedIn\n\n\n\n\nFinding your customer online\, and identifying ways to connect with and reach them\n\n\n\n\nCreating graphic design content using tools like Canva to capture the attention of customers on your news feed\n\n\n\n\nScheduling social media posts and content to make your life easier\, with tools like Meta Business Suite\, Buffer and more\n\n\n\n\nDeveloping a social media Strategy\n\n\n  \nAs well a dedicated Q&A session\, where you can ask a social media expert any questions you have about your own social media strategy.  \n  \n\nMeet the Host:\nKerry Madge | Marketing Executive\, Let’s Do Marketing \n\n  \nKerry Madge is a dynamic Marketing Executive at Let’s Do Marketing\, bringing nearly six years of diverse experience collaborating with businesses of all sizes. Holding a BA in Marketing Management\, Kerry excels in social media advertising\, graphic design\, and copywriting. Her passion lies in crafting creative solutions and developing comprehensive marketing strategies that empower small businesses to visualise and achieve their overarching goals.
URL:https://www.launchpadsouthend.co.uk/event/introduction-to-social-media-marketing-4/
LOCATION:Zoom
CATEGORIES:Learning and development,Social Media
END:VEVENT
END:VCALENDAR