BEGIN:VCALENDAR
VERSION:2.0
PRODID:-//Launchpad Southend - ECPv6.15.20//NONSGML v1.0//EN
CALSCALE:GREGORIAN
METHOD:PUBLISH
X-WR-CALNAME:Launchpad Southend
X-ORIGINAL-URL:https://www.launchpadsouthend.co.uk
X-WR-CALDESC:Events for Launchpad Southend
REFRESH-INTERVAL;VALUE=DURATION:PT1H
X-Robots-Tag:noindex
X-PUBLISHED-TTL:PT1H
BEGIN:VTIMEZONE
TZID:UTC
BEGIN:STANDARD
TZOFFSETFROM:+0000
TZOFFSETTO:+0000
TZNAME:UTC
DTSTART:20240101T000000
END:STANDARD
END:VTIMEZONE
BEGIN:VEVENT
DTSTART;TZID=UTC:20250902T100000
DTEND;TZID=UTC:20250902T120000
DTSTAMP:20260420T011939
CREATED:20250716T122525Z
LAST-MODIFIED:20250716T122525Z
UID:1422-1756807200-1756814400@www.launchpadsouthend.co.uk
SUMMARY:A Guide to Developing your Strategy for Social Media Workshop
DESCRIPTION:Do you have a Social Media Strategy for your business? \nKnowing where to start when creating a social media strategy to drive impact and help your campaigns succeed can feel a bit daunting\, especially if it is new to you. Whatever the size of your organisation or your team\, a strategy and pre-set objectives are essential. Without that\, anything you post can be a drop in the social media ocean. \nJoin us for an informative and practical workshop which will help you set objectives\, develop a strategy\, and build a social media guidebook that everyone in your organisation can use for many years to come. \nTo make this workshop as bespoke as possible we will ask you a few short questions when you register in order for us to understand the needs of the group\, but we will cover the following areas: \n•    Social media objectives – what are yours and how can you implement them?\n•    Setting your tone\, voice and content guidelines\n•    Developing a strategy\n•    Creating a social media guidebook\n•    Calendars and milestones\n•    Reports and analysis\n•    A chance to share your own experiences and learn from others. \nOur social media workshops are popular\, and places are limited\, so please book early to avoid disappointment. \nWho should attend?\nThis training is for staff who have responsibility for social media as part of their role and have a good knowledge of social media and how to use it\, but need help in developing a longer-term strategy\, objectives\, and goals. \nWhat’s included? \n\nThe workshop lasts for 2 hours but further time is available at the end for any outstanding questions or queries.\nAfter the workshop\, we will send you a pack containing all the advice\, tips and links discussed during the session.\nYou will also be able to pass on follow-up questions to our trainers\, SRX Consultancy\, who will offer practical support (via email or a quick call) to ensure you are able to put everything you learned into action.\n\nAbout the Trainers\nSRX Consultancy is a boutique PR\, social media and communications agency specialising in areas including charity and small business.\nSRX’s bespoke and tailored training sessions have been running for 10 years – attended by staff from hundreds of charities\, organisations\, and small businesses\, always receiving positive feedback.\nThis workshop will be delivered by Simon Rothstein and Lauren Soar. \nDate:   Tuesday 2 September 2025  10.00am to 12.00pm\nVirtual:  Zoom Platform\nCost to attend:  Members £95.00 + VAT and Non-Members £150.00 + VAT
URL:https://www.launchpadsouthend.co.uk/event/a-guide-to-developing-your-strategy-for-social-media-workshop/
LOCATION:Zoom
CATEGORIES:Social Media,Zoom
ATTACH;FMTTYPE=image/png:https://www.launchpadsouthend.co.uk/wp-content/uploads/2025/07/7162d541b66ca.png
END:VEVENT
BEGIN:VEVENT
DTSTART;TZID=UTC:20250904T163000
DTEND;TZID=UTC:20250904T183000
DTSTAMP:20260420T011939
CREATED:20250812T095235Z
LAST-MODIFIED:20250812T095235Z
UID:1473-1757003400-1757010600@www.launchpadsouthend.co.uk
SUMMARY:Networking at Jaguar Land Rover
DESCRIPTION:As the roll out of the 75 number plates begins get up close and personal with the luxury car brands’s latest models and enjoy a fantastic evening of networking. \nWhether you’re looking to build new relationships\, strengthen existing ones\, or simply share ideas in a relaxed yet premium setting\, this event offers the perfect environment to do so. \nGroup 1 Jaguar Land Rover Southend is a state of the art 16 car showroom\, 80 space used car display room\, 13 bay workshop and MOT facilities centre. The venue also boasts a specialist parts and accessory sales centre and luxury customer lounge area.\nDrive your business opportunities forward with two of Britain’s most iconic motoring brands.\nDate: Thursday 4 September 4.30pm – 6.30pm \nVenue: Group 1 Jaguar Land Rover Southend\, Cherry Orchard Way\, Rochford\, Essex\, SS4 1GP\nCosts to attend:  Members  £30.00 + VAT  Non Members  £50 + VAT\nOnly TWO attendees per company \nAgenda: \n4.30pm – Arrival\, welcome drinks & canapes\n5.00pm – Welcome from Essex Chambers of Commerce\n5.15pm – Introduction Garry Lane\, Local Business Development Manager at Group 1 JLR Southend\n5.30pm – Networking & opportunity to view and sit in vehicles in the showroom\n6.30pm – Event ends
URL:https://www.launchpadsouthend.co.uk/event/networking-at-jaguar-land-rover/
LOCATION:Group 1 Jaguar Land Rover Southend\, Cherry Orchard Way\, Rochford\, Essex\, SS4 1YH\, United Kingdom
CATEGORIES:Networking
ATTACH;FMTTYPE=image/png:https://www.launchpadsouthend.co.uk/wp-content/uploads/2025/08/c697966e4e29c.png
END:VEVENT
BEGIN:VEVENT
DTSTART;TZID=UTC:20250910T100000
DTEND;TZID=UTC:20250910T113000
DTSTAMP:20260420T011939
CREATED:20250812T095921Z
LAST-MODIFIED:20250812T095921Z
UID:1476-1757498400-1757503800@www.launchpadsouthend.co.uk
SUMMARY:September Virtual Networking
DESCRIPTION:Level Up Your Network at Our Virtual Networking Session \nTake your professional connections to new heights – all from the comfort of your desk! Join industry leaders\, exchange valuable insights\, and form meaningful relationships at our next Virtual Networking session. \nThis interactive and informal experience makes connecting easy and enjoyable\, offering the chance to engage with a diverse range of professionals – many you might not have encountered otherwise. With dynamic breakout rooms\, you’ll reconnect with familiar faces and create new partnerships that could drive your career or business forward. \nGet ready to meet inspiring professionals\, dive into insightful conversations\, and expand your network like never before. Don’t miss out – secure your spot today! \nDate:   Wednesday 10 September 10.00am to 11.30am \nPlatform:   Zoom\nCost:   FREE for Members Non-Members £35.00 + VAT\nOnly TWO attendees per company \nAgenda \n9.50am – Sign into Zoom Meeting\n10.00am – Welcome introduction from a Client Relationship Manager\n10.05am – Networking\n11.30am – Meeting finishes
URL:https://www.launchpadsouthend.co.uk/event/september-virtual-networking/
LOCATION:Zoom
CATEGORIES:Networking
ATTACH;FMTTYPE=image/png:https://www.launchpadsouthend.co.uk/wp-content/uploads/2025/08/7e9f03f8e0cc0.png
END:VEVENT
BEGIN:VEVENT
DTSTART;TZID=UTC:20250910T100000
DTEND;TZID=UTC:20250910T150000
DTSTAMP:20260420T011939
CREATED:20250304T134637Z
LAST-MODIFIED:20250304T134637Z
UID:1178-1757498400-1757516400@www.launchpadsouthend.co.uk
SUMMARY:The North Essex Business Expo
DESCRIPTION:The North Essex Business Expo 10th September 2025 \nWe are really pleased to announce a partnership between the North Essex Councils (NEEB)\, Colchester\, Maldon\, Tendring\, Braintree\, Uttlesford\, Epping\, Chelmsford\, Essex\, Global\, the DE Group and Networking Essex . What we hope to achieve the biggest business expo in North Essex at the Charter Hall\, Colchester on 10th September between 10am-3pm with over 100 stands and 1000 visitors. \nThe expo will be promoted by all our partners to their databases\, social media\, newsletters and in the case of Global we’ll be on Heart radio again leading up to the event. We intend to make every business in Essex aware of the expo and make it a must attend event. \nThis event is open to all businesses of all sizes\, trades\, industries\, professions and sectors\, start ups and pre start ups with something for everyone. \nThe expo is free to attend with plenty of free parking at the Charter Hall\, to book your place please visit www.networking-essex.co.uk and if you would like to exhibit\, please email aaron@networking-essex.co.uk
URL:https://www.launchpadsouthend.co.uk/event/the-north-essex-business-expo-2/
LOCATION:Charter Hall\, Cowdray Avenue\, Colchester\, CO1 1YH\, United Kingdom
CATEGORIES:Expo,Networking
ATTACH;FMTTYPE=image/avif:https://www.launchpadsouthend.co.uk/wp-content/uploads/2025/03/https___cdn.evbuc_.com_images_974659883_251594471871_1_original.avif
END:VEVENT
BEGIN:VEVENT
DTSTART;TZID=UTC:20250916T073000
DTEND;TZID=UTC:20250916T093000
DTSTAMP:20260420T011939
CREATED:20250812T100623Z
LAST-MODIFIED:20250812T100623Z
UID:1478-1758007800-1758015000@www.launchpadsouthend.co.uk
SUMMARY:Network with Colchester City Council at the Delta Hotel Colchester
DESCRIPTION:Networking Breakfast – Driving Economic Growth & Investment in Colchester \nStart your day with purpose\, connect with fellow professionals\, and gain exclusive insights from the leadership of Colchester City Council at the newly refurbished Delta Hotels by Marriott Colchester. \nThis is your opportunity to hear directly from Pamela Donnelly\, CEO of Colchester City Council\, and Lindsay Barker\, Deputy CEO\, as they provide an in-depth briefing on the city’s economic priorities\, development pipeline\, and upcoming initiatives designed to drive business engagement and investment. \nNetwork with influential business leaders\, investors\, and decision-makers as we explore Colchester’s economic future and the vital role local enterprises play in shaping the region’s success. \nEnjoy a delicious breakfast in the stylish surroundings of the reimagined venue\, formerly the Marks Tey Hotel and now a contemporary 4-star destination. \nDon’t miss this opportunity to be part of the conversation shaping Colchester’s next chapter. \nDate:  Tuesday 16 September   7.30am – 9.30am\nVenue:  Delta Hotels Colchester. London Rd\, Marks Tey\, Colchester CO6 1DU\nCosts to attend:  Members  £30.00 + VAT  Non Members  £50 + VAT\nOnly TWO attendees per Company  \nAgenda – Subject to change\n7.30am – Registration\, refreshments & networking\n8.15am – Welcome from Denise Rossiter\, CEO – Essex Chambers\n8.20am – Presentation from Colchester City Council\n8.50am – Networking & refreshments\n9.30am – Event ends \n\n\n\n\n\n\n\nExtra Information\n\nParking Info \nFree parking is available at the venue. Vehicles must be registered at Reception on arrival\n\n\nRefreshments \nBreakfast refreshments will be served
URL:https://www.launchpadsouthend.co.uk/event/network-with-colchester-city-council-at-the-delta-hotel-colchester/
LOCATION:Delta Hotels Colchester\, London Road Marks Tey\, Colchester\, Essex\, CO6 1DU\, United Kingdom
CATEGORIES:Networking
ATTACH;FMTTYPE=image/png:https://www.launchpadsouthend.co.uk/wp-content/uploads/2025/08/282d8287bf930.png
END:VEVENT
END:VCALENDAR