BEGIN:VCALENDAR
VERSION:2.0
PRODID:-//Launchpad Southend - ECPv6.15.20//NONSGML v1.0//EN
CALSCALE:GREGORIAN
METHOD:PUBLISH
X-ORIGINAL-URL:https://www.launchpadsouthend.co.uk
X-WR-CALDESC:Events for Launchpad Southend
REFRESH-INTERVAL;VALUE=DURATION:PT1H
X-Robots-Tag:noindex
X-PUBLISHED-TTL:PT1H
BEGIN:VTIMEZONE
TZID:UTC
BEGIN:STANDARD
TZOFFSETFROM:+0000
TZOFFSETTO:+0000
TZNAME:UTC
DTSTART:20240101T000000
END:STANDARD
END:VTIMEZONE
BEGIN:VEVENT
DTSTART;TZID=UTC:20251009T120000
DTEND;TZID=UTC:20251009T130000
DTSTAMP:20260420T001947
CREATED:20250717T131928Z
LAST-MODIFIED:20250717T131928Z
UID:1434-1760011200-1760014800@www.launchpadsouthend.co.uk
SUMMARY:Financing greener assets to unlock better business performance
DESCRIPTION:Join the British Business Bank for a dynamic panel discussion exploring the evolving landscape of business finance for green assets\, including practical examples of financial products and the businesses using them. \nBeneath the geopolitical noise\, investment in lower carbon assets and business models could offer long-term commercial opportunities. \nYet newer\, greener assets can feel unfamiliar and untested to smaller businesses who are worried about high upfront investment costs. \nThis session will help explain how companies could finance their transition to lower carbon and higher efficiency assets while maintaining their profitability and resilience. \nThis event is aimed at individuals new to finance. \n\n\nSpeakers\n\nPhilippe Bazin\, Novuna Head of Sustainable Energy and Green Infrastructure\nTony Greenham\, Managing Director\, Sustainability\, British Business Bank
URL:https://www.launchpadsouthend.co.uk/event/financing-greener-assets-to-unlock-better-business-performance/
LOCATION:Online
CATEGORIES:Business Finance Week 2025,Learning and development,Online Event
ATTACH;FMTTYPE=image/webp:https://www.launchpadsouthend.co.uk/wp-content/uploads/2025/07/2833129_10099_bfw_email_800x400px.webp
END:VEVENT
END:VCALENDAR