BEGIN:VCALENDAR
VERSION:2.0
PRODID:-//Launchpad Southend - ECPv6.15.20//NONSGML v1.0//EN
CALSCALE:GREGORIAN
METHOD:PUBLISH
X-ORIGINAL-URL:https://www.launchpadsouthend.co.uk
X-WR-CALDESC:Events for Launchpad Southend
REFRESH-INTERVAL;VALUE=DURATION:PT1H
X-Robots-Tag:noindex
X-PUBLISHED-TTL:PT1H
BEGIN:VTIMEZONE
TZID:UTC
BEGIN:STANDARD
TZOFFSETFROM:+0000
TZOFFSETTO:+0000
TZNAME:UTC
DTSTART:20240101T000000
END:STANDARD
END:VTIMEZONE
BEGIN:VEVENT
DTSTART;TZID=UTC:20251001T110000
DTEND;TZID=UTC:20251001T120000
DTSTAMP:20260420T001948
CREATED:20250717T115413Z
LAST-MODIFIED:20250717T115413Z
UID:1431-1759316400-1759320000@www.launchpadsouthend.co.uk
SUMMARY:An introduction to Start Up Loans
DESCRIPTION:With a host of free nationwide and regional in-person events\, webinars and more\, Business Finance Week helps smaller businesses learn about the different finance options that may be available to them to support their individual needs. \n\nSince being launched in 2016\, over 122\,000 businesses have benefited from a government-backed Start Up Loan. \nJoin colleagues from the British Business Bank as they explain what a Start Up Loan is\, the support applicants enjoy beyond the funding itself\, and the overall impact of the scheme for UK start-ups. \nWith special guests including Start Up Loan recipients\, partners\, and experts from the British Business Bank\, this event will help you decide if a Start Up Loan is right for you and your business aspirations. \nThis event is aimed at individuals new to finance. \n\n\nSpeakers\n\nLisa Storey\, Founder\, EZHampers\nPeter Gover\, Head of Credit\, Performance & Procurement\, The King’s Trust\nRen Kapur MBE\, Chief Executive Officer\, X-Forces Enterprise\nRichard Bearman\, Chief Development Officer\, British Business Bank
URL:https://www.launchpadsouthend.co.uk/event/an-introduction-to-start-up-loans/
LOCATION:Online
CATEGORIES:Business Finance Week 2025,Learning and development,Online Event
ATTACH;FMTTYPE=image/webp:https://www.launchpadsouthend.co.uk/wp-content/uploads/2025/07/2833129_10099_bfw_email_800x400px.webp
END:VEVENT
END:VCALENDAR