BEGIN:VCALENDAR
VERSION:2.0
PRODID:-//Launchpad Southend - ECPv6.15.20//NONSGML v1.0//EN
CALSCALE:GREGORIAN
METHOD:PUBLISH
X-ORIGINAL-URL:https://www.launchpadsouthend.co.uk
X-WR-CALDESC:Events for Launchpad Southend
REFRESH-INTERVAL;VALUE=DURATION:PT1H
X-Robots-Tag:noindex
X-PUBLISHED-TTL:PT1H
BEGIN:VTIMEZONE
TZID:UTC
BEGIN:STANDARD
TZOFFSETFROM:+0000
TZOFFSETTO:+0000
TZNAME:UTC
DTSTART:20250101T000000
END:STANDARD
END:VTIMEZONE
BEGIN:VEVENT
DTSTART;TZID=UTC:20260123T100000
DTEND;TZID=UTC:20260123T130000
DTSTAMP:20260425T224046
CREATED:20260109T100847Z
LAST-MODIFIED:20260109T100847Z
UID:1694-1769162400-1769173200@www.launchpadsouthend.co.uk
SUMMARY:Workshop 4: AI in Tendering – Practical\, Compliant & Competitive Use
DESCRIPTION:This workshop helps micro and small businesses understand how to use AI safely\, ethically\, and effectively in their tendering process \n\n\n\n\nOverview\nAI is transforming how businesses approach public sector bidding. This two-hour workshop helps micro and small businesses understand how to use AI safely\, ethically\, and effectively in their tendering process. \nWhat You’ll Learn \n\nUK public sector guidance on AI in procurement\nHow AI can support drafting\, compliance checks\, and idea generation\nRisks and red flags to avoid\nA four-step framework for integrating AI into your bid process\n\nOutcomes \n\nA buyer-aligned approach to using AI in tendering\nImproved efficiency without compromising quality\nConfidence in ethical AI use\nA smarter\, more competitive bid strategy\n\nDelivery\nThis workshop is hosted by Launchpad Southend and delivered by BIZphit LLP. It is fully funded by Southend-on-Sea City Council and Rochford District Council.
URL:https://www.launchpadsouthend.co.uk/event/workshop-4-ai-in-tendering-practical-compliant-competitive-use/
LOCATION:Launchpad Southend\, Launchpad Airport Business Park\, Rochford\, SS4 1YH
CATEGORIES:AI,Learning and development
ATTACH;FMTTYPE=image/webp:https://www.launchpadsouthend.co.uk/wp-content/uploads/2026/01/image.webp
END:VEVENT
END:VCALENDAR