BEGIN:VCALENDAR
VERSION:2.0
PRODID:-//Launchpad Southend - ECPv6.15.20//NONSGML v1.0//EN
CALSCALE:GREGORIAN
METHOD:PUBLISH
X-ORIGINAL-URL:https://www.launchpadsouthend.co.uk
X-WR-CALDESC:Events for Launchpad Southend
REFRESH-INTERVAL;VALUE=DURATION:PT1H
X-Robots-Tag:noindex
X-PUBLISHED-TTL:PT1H
BEGIN:VTIMEZONE
TZID:UTC
BEGIN:STANDARD
TZOFFSETFROM:+0000
TZOFFSETTO:+0000
TZNAME:UTC
DTSTART:20240101T000000
END:STANDARD
END:VTIMEZONE
BEGIN:VEVENT
DTSTART;TZID=UTC:20251103T110000
DTEND;TZID=UTC:20251103T120000
DTSTAMP:20260426T020505
CREATED:20251009T085250Z
LAST-MODIFIED:20251009T090852Z
UID:1586-1762167600-1762171200@www.launchpadsouthend.co.uk
SUMMARY:Train Your AI in 1 Hour (So It Actually Sounds Like You)
DESCRIPTION:Welcome to the Small Business Saturday Webinar Programme! Join us as we gear up for Small Business Saturday on 6th December with our series of free\, virtual webinars designed to help small businesses grow. \nEach webinar is hosted by successful small business owners and recorded for later viewing. \nAttend 10 sessions\, and receive a free gift from us! \nDo you want your AI assistant to truly reflect your voice\, tone\, and personality? \nIn this webinar\, Julie Begbie shows you how to train your AI in just one hour\, with no tech background required. Learn simple and effective techniques to make your AI write like you\, think like you\, and communicate like you. Perfect for anyone who wants to save time without sounding robotic. \nYou’ll learn: \n– The exact prompts to use \n– How to teach your AI ‘you’ authentically \n– How to use your trained AI in day to day \nSign up for more webinars in this series here: https://smallbusinesssaturdayuk.com/the-tour
URL:https://www.launchpadsouthend.co.uk/event/train-your-ai-in-1-hour-so-it-actually-sounds-like-you/
LOCATION:Zoom
CATEGORIES:AI
ATTACH;FMTTYPE=image/jpeg:https://www.launchpadsouthend.co.uk/wp-content/uploads/2025/10/c6904d0f-d393-4fad-aa98-7620f269b8f5.jpeg
END:VEVENT
END:VCALENDAR