BEGIN:VCALENDAR
VERSION:2.0
PRODID:-//Launchpad Southend - ECPv6.15.20//NONSGML v1.0//EN
CALSCALE:GREGORIAN
METHOD:PUBLISH
X-WR-CALNAME:Launchpad Southend
X-ORIGINAL-URL:https://www.launchpadsouthend.co.uk
X-WR-CALDESC:Events for Launchpad Southend
REFRESH-INTERVAL;VALUE=DURATION:PT1H
X-Robots-Tag:noindex
X-PUBLISHED-TTL:PT1H
BEGIN:VTIMEZONE
TZID:UTC
BEGIN:STANDARD
TZOFFSETFROM:+0000
TZOFFSETTO:+0000
TZNAME:UTC
DTSTART:20240101T000000
END:STANDARD
END:VTIMEZONE
BEGIN:VEVENT
DTSTART;TZID=UTC:20250915T100000
DTEND;TZID=UTC:20251020T110000
DTSTAMP:20260426T035844
CREATED:20250812T101820Z
LAST-MODIFIED:20250812T101820Z
UID:1481-1757930400-1760958000@www.launchpadsouthend.co.uk
SUMMARY:AI For Small Business
DESCRIPTION:Small Business Britain is thrilled to deliver the AI For Small Business programme\, supported by BT Group\, to help small business owners unlock the power of AI and make their lives easier while streamlining operations. Whether it’s enhancing communication\, automating tasks\, or supercharging marketing efforts\, the academy has everything you need! \nJoin the programme to help you sharpen your digital skills to stay ahead of the curve. \nCourse dates \n  \n\nModule 1 – 15th September 10am\nModule 2 – 22nd September 10am\nModule 3 – 29th September 10am\nModule 4 – 6th October 10am\nModule 5 – 13th October 10am\nModule 6 – 20th October 10am\n\n\nA special thanks to BT Group for partnering with us on this programme
URL:https://www.launchpadsouthend.co.uk/event/ai-for-small-business/
LOCATION:Online
CATEGORIES:AI
ATTACH;FMTTYPE=image/png:https://www.launchpadsouthend.co.uk/wp-content/uploads/2025/08/AI.png
END:VEVENT
BEGIN:VEVENT
DTSTART;TZID=UTC:20250915T100000
DTEND;TZID=UTC:20251020T110000
DTSTAMP:20260426T035844
CREATED:20250827T090717Z
LAST-MODIFIED:20250827T090717Z
UID:1514-1757930400-1760958000@www.launchpadsouthend.co.uk
SUMMARY:AI For Small Business
DESCRIPTION:Small Business Britain is thrilled to bring back the AI For Small Business programme\, supported by BT Group\, to help small business owners use AI and make their lives easier. Whether it’s improving communication\, automating tasks\, or supercharging marketing efforts\, this programme has everything you need! \n\nJoin the programme to help you sharpen your digital skills to stay ahead of the curve. \nCourse dates \n  \n\nModule 1 – 15th September 10am\nModule 2 – 22nd September 10am\nModule 3 – 29th September 10am\nModule 4 – 6th October 10am\nModule 5 – 13th October 10am\nModule 6 – 20th October 10am\n\n\nA special thanks to BT Group for partnering with us on this programme.
URL:https://www.launchpadsouthend.co.uk/event/ai-for-small-business-2/
LOCATION:online workshop
CATEGORIES:AI,Learning and development
ATTACH;FMTTYPE=image/png:https://www.launchpadsouthend.co.uk/wp-content/uploads/2025/08/AI.png
END:VEVENT
BEGIN:VEVENT
DTSTART;TZID=UTC:20251010T100000
DTEND;TZID=UTC:20251010T150000
DTSTAMP:20260426T035844
CREATED:20250911T093437Z
LAST-MODIFIED:20250911T093437Z
UID:1546-1760090400-1760108400@www.launchpadsouthend.co.uk
SUMMARY:AI Accelerator: Introduction to AI and Digital Tools
DESCRIPTION:Join us for a full-day\, hands-on Digital Tools and AI Workshop designed to help professionals streamline workflows\, boost productivity\, and confidently integrate AI into their daily operations. \nIn the morning session\, we’ll explore the fundamentals of digital tools\, including communication\, project management\, automation\, and data analysis platforms. Through interactive activities like tool mapping\, gap analysis\, and real-world scenario comparisons\, participants will gain a clear understanding of how digital transformation can enhance efficiency and reduce manual processes. \nWe will have a short break inbetween including a complimentary light lunch and refreshments. \nThe afternoon session dives into the power of AI\, with a focus on the Microsoft Copilot ecosystem. Participants will experience live demos across Outlook\, Excel\, PowerPoint\, and Word\, and engage in practical exercises to identify AI solutions for real-world tasks. The day concludes with a collaborative project lab\, integration strategies\, and actionable next steps for adopting digital tools and AI in the workplace. \nWhether you’re just starting your digital journey or looking to deepen your AI integration\, this workshop offers practical insights\, peer learning\, and expert guidance to help you drive meaningful change. \nThis workshop will be a pilot for a four part accelerator series and there are only 20 spaces for Southend based businesses\, entrepreneurs and leaders who are ready to embrace the future of AI and reap the rewards for your business. \nThese workshops have been organised by Southend-on-Sea City Council\, hosted by Launchpad Southend and delivered by GoodChangePeople
URL:https://www.launchpadsouthend.co.uk/event/ai-accelerator-introduction-to-ai-and-digital-tools/
LOCATION:Launchpad Southend\, Launchpad Airport Business Park\, Rochford\, SS4 1YH
CATEGORIES:AI,Learning and development
ATTACH;FMTTYPE=image/jpeg:https://www.launchpadsouthend.co.uk/wp-content/uploads/2025/09/https___cdn.evbuc_.com_images_1119940763_14080922287_1_original.jpg
END:VEVENT
END:VCALENDAR