BEGIN:VCALENDAR
VERSION:2.0
PRODID:-//Launchpad Southend - ECPv6.15.20//NONSGML v1.0//EN
CALSCALE:GREGORIAN
METHOD:PUBLISH
X-WR-CALNAME:Launchpad Southend
X-ORIGINAL-URL:https://www.launchpadsouthend.co.uk
X-WR-CALDESC:Events for Launchpad Southend
REFRESH-INTERVAL;VALUE=DURATION:PT1H
X-Robots-Tag:noindex
X-PUBLISHED-TTL:PT1H
BEGIN:VTIMEZONE
TZID:UTC
BEGIN:STANDARD
TZOFFSETFROM:+0000
TZOFFSETTO:+0000
TZNAME:UTC
DTSTART:20240101T000000
END:STANDARD
END:VTIMEZONE
BEGIN:VEVENT
DTSTART;TZID=UTC:20250226T090000
DTEND;TZID=UTC:20250226T170000
DTSTAMP:20260420T031703
CREATED:20250211T112948Z
LAST-MODIFIED:20250211T112948Z
UID:1112-1740560400-1740589200@www.launchpadsouthend.co.uk
SUMMARY:The Doctor Can See You Now - Get IP ready for your funding applications!
DESCRIPTION:Get IP ready for your funding applications! \nWe can help to identify your valuable IP and provide advice on how to manage it effectively. \nDr Craig’s online IP Health Check. \nBook your free 1:1 consultation on 26th February. \nEmail to book an appointment: anne.douglas@lawrie-ip.com
URL:https://www.launchpadsouthend.co.uk/event/the-doctor-can-see-you-now-get-ip-ready-for-your-funding-applications/
LOCATION:Online
CATEGORIES:Learning and development
ATTACH;FMTTYPE=image/jpeg:https://www.launchpadsouthend.co.uk/wp-content/uploads/2025/02/IP-Clinic-Craig-26-Feb-scaled.jpg
END:VEVENT
END:VCALENDAR