BEGIN:VCALENDAR
VERSION:2.0
PRODID:-//Launchpad Southend - ECPv6.15.20//NONSGML v1.0//EN
CALSCALE:GREGORIAN
METHOD:PUBLISH
X-ORIGINAL-URL:https://www.launchpadsouthend.co.uk
X-WR-CALDESC:Events for Launchpad Southend
REFRESH-INTERVAL;VALUE=DURATION:PT1H
X-Robots-Tag:noindex
X-PUBLISHED-TTL:PT1H
BEGIN:VTIMEZONE
TZID:UTC
BEGIN:STANDARD
TZOFFSETFROM:+0000
TZOFFSETTO:+0000
TZNAME:UTC
DTSTART:20250101T000000
END:STANDARD
END:VTIMEZONE
BEGIN:VEVENT
DTSTART;TZID=UTC:20260311T100000
DTEND;TZID=UTC:20260311T130000
DTSTAMP:20260420T050407
CREATED:20260304T105755Z
LAST-MODIFIED:20260304T105755Z
UID:1813-1773223200-1773234000@www.launchpadsouthend.co.uk
SUMMARY:Introduction to Social Media Marketing
DESCRIPTION:Meet your customers where they are – and make social media work for your business growth! \n  \nThis Introduction to Social Media Marketing course takes you back to basics – understanding and finding your audience online\, and giving you the foundational skills to build a strong online presence that helps your business grow. \n  \nThis workshop focuses on practical strategies that drive real engagement and business growth. You’ll discover how to choose the right platforms\, craft content that resonates\, and manage your presence effectively. By the end\, you’ll have the skills and confidence to make social media a powerful asset for your business. \n  \n\nEvent details:\n🕙Time: 10:00am – 1:00pm \n📌Location: Online (ZOOM) \n💷Cost: £35pp +VAT \n  \n\nWhat You’ll Learn:\n\n\nBuilding a Solid Foundation: Learn the basics of social media marketing\, including how to choose the right platforms and set up your profiles for success.\n\n\n\n\nUnderstanding Your Audience & Strategy: Discover who your ideal audience is\, what they care about\, and how to plan content that resonates with them.\n\n\n\n\nCrafting Engaging Content: Explore techniques for creating posts\, images\, and videos that capture attention and encourage interaction.\n\n\n\n\nScheduling\, Automation & Consistency: Learn how to plan and schedule content efficiently\, using tools and strategies to maintain a consistent presence.\n\n\n\n\nGrowing Your Following & Engagement: Understand how to attract followers organically\, encourage engagement\, and build relationships with your audience.\n\n\n  \n\nMeet the Host:\nKerry Madge | Marketing Executive\, Let’s Do Marketing \n\n  \nKerry Madge is a creative and hands-on Marketing Executive at Let’s Do Marketing\, bringing nearly six years of experience helping businesses grow through social media. With a BA in Marketing Management\, she specialises in social media advertising\, content creation\, and graphic design\, turning ideas into engaging posts that capture attention and drive results. \n  \nKerry’s passion is helping small businesses navigate the world of social media with confidence. She loves developing practical strategies\, crafting eye-catching content\, and showing businesses how to use platforms like Facebook and Instagram to connect with their audience and achieve real growth. \n  \n 
URL:https://www.launchpadsouthend.co.uk/event/introduction-to-social-media-marketing-5/
LOCATION:Online
CATEGORIES:Social Media
ATTACH;FMTTYPE=image/webp:https://www.launchpadsouthend.co.uk/wp-content/uploads/2026/03/original-3.webp
END:VEVENT
BEGIN:VEVENT
DTSTART;TZID=UTC:20260319T093000
DTEND;TZID=UTC:20260319T113000
DTSTAMP:20260420T050407
CREATED:20260109T160939Z
LAST-MODIFIED:20260304T110651Z
UID:1718-1773912600-1773919800@www.launchpadsouthend.co.uk
SUMMARY:LinkedIn Do's & Don'ts for Success
DESCRIPTION:Description\nUse LinkedIn to expand your professional network\, attract new clients\, and create real business opportunities – all without feeling overwhelmed or unsure where to start. \n  \nFinding it hard to make LinkedIn work for your business? Many small business owners set up a profile but post irregularly or struggle to engage the right audience\, then wonder why results don’t follow. \n  \nThis workshop focuses on giving you LinkedIn strategies that generate meaningful connections and business growth. You’ll optimise your profile\, craft engaging content\, and network effectively. By the end\, you’ll have practical skills and actionable strategies to make LinkedIn a powerful tool for your business. \n  \n\nEvent details:\n🕙Time: 09:30am – 11:30am \n📌Location: Online (ZOOM) \n💷Cost: £30pp +VAT \n  \n\nWhat You’ll Learn:\n\n\nOptimising Your Profile: Learn how to create a professional and compelling LinkedIn profile that attracts the right audience.\n\n\n\n\nBuilding a Network: Discover strategies for connecting with potential clients\, collaborators\, and industry peers effectively.\n\n\n\n\nCreating Engaging Content: Explore how to post updates\, articles\, and multimedia content that positions you as an expert in your field.\n\n\n\n\nGenerating Leads: Learn practical methods to identify prospects\, start conversations\, and turn connections into opportunities.\n\n\n\n\nPersonal Branding on LinkedIn: Understand how to present your business consistently and authentically to build trust.\n\n\n\n\nAnalytics & Growth: Learn how to monitor engagement\, track performance\, and adjust your LinkedIn activity for maximum impact.\n\n\n  \n\nMeet the Host:\nStacey Pretty | Marketing Director\, Let’s Do Marketing \n\n  \nStacey Pretty is the Marketing Director at Let’s Do Marketing\, where she helps small and growing businesses turn their marketing ideas into real results. \n  \nWith more than 19 years of hands-on experience in both B2B and B2C marketing\, Stacey’s worked on everything from digital campaigns and content strategies to traditional promotions. She’s seen what works\, and what doesn’t\, for small businesses trying to make their mark. \n  \nStacey’s mission is simple: to make marketing easier to understand and more effective for business owners who have a lot on their plates. Her sessions focus on practical\, achievable steps that bring consistency\, confidence\, and results.
URL:https://www.launchpadsouthend.co.uk/event/linkedin-dos-donts-for-success-4/
LOCATION:Online
CATEGORIES:Social Media
ATTACH;FMTTYPE=image/webp:https://www.launchpadsouthend.co.uk/wp-content/uploads/2026/01/original-2.webp
END:VEVENT
BEGIN:VEVENT
DTSTART;TZID=UTC:20260331T100000
DTEND;TZID=UTC:20260331T130000
DTSTAMP:20260420T050407
CREATED:20260202T142400Z
LAST-MODIFIED:20260202T142400Z
UID:1752-1774951200-1774962000@www.launchpadsouthend.co.uk
SUMMARY:Social Media Advanced: Paid Ads on Facebook & Instagram
DESCRIPTION:Use paid social media advertising to reach the right audience\, drive traffic\, and achieve real business results – without wasting money on ineffective ads. \n  \nMany small business owners struggle with paid campaigns because they run ads without a clear strategy\, leaving them frustrated when results don’t match their expectations. \n  \nThis workshop focuses on equipping you with strategies for paid social media campaigns that actually deliver. You’ll discover how to target the right audience\, craft compelling ad content\, and measure performance effectively. By the end\, you’ll have practical skills and the confidence to turn paid social media ads into a powerful growth tool for your business. \n  \n\nEvent details:\n🕙Time: 10:00am – 1:00pm \n📌Location: Online (ZOOM) \n💷Cost: £35pp +VAT \n  \n\nWhat You’ll Learn:\n\n\nBuilding a Strong Foundation: Understand the fundamentals of paid social media advertising\, including campaign objectives\, ad formats\, and targeting options.\n\n\n\n\nDefining Your Audience: Learn how to identify your ideal customers and use tools like custom audiences\, lookalike audiences\, and retargeting to reach them.\n\n\n\n\nCreating Engaging Ads: Explore techniques for writing persuasive copy and designing eye-catching graphics using tools like Canva that drive clicks and conversions.\n\n\n\n\nSetting Up Campaigns: Get hands-on guidance on creating and launching campaigns in Facebook Ads Manager\, including ad placement\, budget allocation\, and bidding strategies.\n\n\n\n\nMonitoring & Optimising Performance: Learn how to track key metrics\, analyse results\, and adjust campaigns to improve ROI and achieve better outcomes.\n\n\n  \n\nMeet the Host:\nKerry Madge | Marketing Executive\, Let’s Do Marketing \n\n  \nKerry Madge is a creative and hands-on Marketing Executive at Let’s Do Marketing\, bringing nearly six years of experience helping businesses grow through social media. With a BA in Marketing Management\, she specialises in social media advertising\, content creation\, and graphic design\, turning ideas into engaging posts that capture attention and drive results. \n  \nKerry’s passion is helping small businesses navigate the world of paid social media with confidence. She loves developing practical strategies\, crafting ads that connect with the right audience\, and showing businesses how to use platforms like Facebook and Instagram to drive traffic\, leads\, and sales. \n  \n\nPrivacy Notice\nBy registering for this event\, you agree to Let’s Do Business Group processing and managing your personal data in accordance with our Privacy Policy. Your data will only be used for the purposes of managing your event registration and any relevant communications.
URL:https://www.launchpadsouthend.co.uk/event/social-media-advanced-paid-ads-on-facebook-instagram/
LOCATION:Online
CATEGORIES:Online Event,Social Media
ATTACH;FMTTYPE=image/webp:https://www.launchpadsouthend.co.uk/wp-content/uploads/2026/02/original-3.webp
END:VEVENT
BEGIN:VEVENT
DTSTART;TZID=UTC:20260513T100000
DTEND;TZID=UTC:20260513T130000
DTSTAMP:20260420T050407
CREATED:20260331T140356Z
LAST-MODIFIED:20260331T140547Z
UID:1865-1778666400-1778677200@www.launchpadsouthend.co.uk
SUMMARY:Introduction to Social Media Marketing
DESCRIPTION:Meet your customers where they are – and make social media work for your business growth! \nThis Introduction to Social Media Marketing course takes you back to basics – understanding and finding your audience online\, and giving you the foundational skills to build a strong online presence that helps your business grow. \nThis workshop focuses on practical strategies that drive real engagement and business growth. You’ll discover how to choose the right platforms\, craft content that resonates\, and manage your presence effectively. By the end\, you’ll have the skills and confidence to make social media a powerful asset for your business. \nWhat You’ll Learn:\n\n\nBuilding a Solid Foundation: Learn the basics of social media marketing\, including how to choose the right platforms and set up your profiles for success.\n\n\n\n\nUnderstanding Your Audience & Strategy: Discover who your ideal audience is\, what they care about\, and how to plan content that resonates with them.\n\n\n\n\nCrafting Engaging Content: Explore techniques for creating posts\, images\, and videos that capture attention and encourage interaction.\n\n\n\n\nScheduling\, Automation & Consistency: Learn how to plan and schedule content efficiently\, using tools and strategies to maintain a consistent presence.\n\n\n\n\nGrowing Your Following & Engagement: Understand how to attract followers organically\, encourage engagement\, and build relationships with your audience.
URL:https://www.launchpadsouthend.co.uk/event/introduction-to-social-media-marketing-6/
LOCATION:Online
CATEGORIES:Social Media
ATTACH;FMTTYPE=image/webp:https://www.launchpadsouthend.co.uk/wp-content/uploads/2026/03/original-4-1.webp
END:VEVENT
BEGIN:VEVENT
DTSTART;TZID=UTC:20260519T100000
DTEND;TZID=UTC:20260519T130000
DTSTAMP:20260420T050407
CREATED:20260401T104946Z
LAST-MODIFIED:20260401T104946Z
UID:1873-1779184800-1779195600@www.launchpadsouthend.co.uk
SUMMARY:Social Media Advanced: Paid Ads on Facebook & Instagram
DESCRIPTION:Use paid social media advertising to reach the right audience\, drive traffic\, and achieve real business results – without wasting money on ineffective ads. \nMany small business owners struggle with paid campaigns because they run ads without a clear strategy\, leaving them frustrated when results don’t match their expectations. \nThis workshop focuses on equipping you with strategies for paid social media campaigns that actually deliver. You’ll discover how to target the right audience\, craft compelling ad content\, and measure performance effectively. By the end\, you’ll have practical skills and the confidence to turn paid social media ads into a powerful growth tool for your business. \nWhat You’ll Learn:\n\n\nBuilding a Strong Foundation: Understand the fundamentals of paid social media advertising\, including campaign objectives\, ad formats\, and targeting options.\n\n\n\n\nDefining Your Audience: Learn how to identify your ideal customers and use tools like custom audiences\, lookalike audiences\, and retargeting to reach them.\n\n\n\n\nCreating Engaging Ads: Explore techniques for writing persuasive copy and designing eye-catching graphics using tools like Canva that drive clicks and conversions.\n\n\n\n\nSetting Up Campaigns: Get hands-on guidance on creating and launching campaigns in Facebook Ads Manager\, including ad placement\, budget allocation\, and bidding strategies.\n\n\n\n\nMonitoring & Optimising Performance: Learn how to track key metrics\, analyse results\, and adjust campaigns to improve ROI and achieve better outcomes.
URL:https://www.launchpadsouthend.co.uk/event/social-media-advanced-paid-ads-on-facebook-instagram-2/
LOCATION:Online
CATEGORIES:Social Media
ATTACH;FMTTYPE=image/webp:https://www.launchpadsouthend.co.uk/wp-content/uploads/2026/04/original-6.webp
END:VEVENT
BEGIN:VEVENT
DTSTART;TZID=UTC:20260708T100000
DTEND;TZID=UTC:20260708T130000
DTSTAMP:20260420T050407
CREATED:20260331T140620Z
LAST-MODIFIED:20260331T140620Z
UID:1867-1783504800-1783515600@www.launchpadsouthend.co.uk
SUMMARY:Introduction to Social Media Marketing
DESCRIPTION:Meet your customers where they are – and make social media work for your business growth! \nThis Introduction to Social Media Marketing course takes you back to basics – understanding and finding your audience online\, and giving you the foundational skills to build a strong online presence that helps your business grow. \nThis workshop focuses on practical strategies that drive real engagement and business growth. You’ll discover how to choose the right platforms\, craft content that resonates\, and manage your presence effectively. By the end\, you’ll have the skills and confidence to make social media a powerful asset for your business. \nWhat You’ll Learn:\n\n\nBuilding a Solid Foundation: Learn the basics of social media marketing\, including how to choose the right platforms and set up your profiles for success.\n\n\n\n\nUnderstanding Your Audience & Strategy: Discover who your ideal audience is\, what they care about\, and how to plan content that resonates with them.\n\n\n\n\nCrafting Engaging Content: Explore techniques for creating posts\, images\, and videos that capture attention and encourage interaction.\n\n\n\n\nScheduling\, Automation & Consistency: Learn how to plan and schedule content efficiently\, using tools and strategies to maintain a consistent presence.\n\n\n\n\nGrowing Your Following & Engagement: Understand how to attract followers organically\, encourage engagement\, and build relationships with your audience.
URL:https://www.launchpadsouthend.co.uk/event/introduction-to-social-media-marketing-7/
LOCATION:Online
CATEGORIES:Social Media
ATTACH;FMTTYPE=image/webp:https://www.launchpadsouthend.co.uk/wp-content/uploads/2026/03/original-4-1.webp
END:VEVENT
BEGIN:VEVENT
DTSTART;TZID=UTC:20260714T100000
DTEND;TZID=UTC:20260714T130000
DTSTAMP:20260420T050407
CREATED:20260401T105050Z
LAST-MODIFIED:20260401T105050Z
UID:1875-1784023200-1784034000@www.launchpadsouthend.co.uk
SUMMARY:Social Media Advanced: Paid Ads on Facebook & Instagram
DESCRIPTION:Use paid social media advertising to reach the right audience\, drive traffic\, and achieve real business results – without wasting money on ineffective ads. \nMany small business owners struggle with paid campaigns because they run ads without a clear strategy\, leaving them frustrated when results don’t match their expectations. \nThis workshop focuses on equipping you with strategies for paid social media campaigns that actually deliver. You’ll discover how to target the right audience\, craft compelling ad content\, and measure performance effectively. By the end\, you’ll have practical skills and the confidence to turn paid social media ads into a powerful growth tool for your business. \nWhat You’ll Learn:\n\n\nBuilding a Strong Foundation: Understand the fundamentals of paid social media advertising\, including campaign objectives\, ad formats\, and targeting options.\n\n\n\n\nDefining Your Audience: Learn how to identify your ideal customers and use tools like custom audiences\, lookalike audiences\, and retargeting to reach them.\n\n\n\n\nCreating Engaging Ads: Explore techniques for writing persuasive copy and designing eye-catching graphics using tools like Canva that drive clicks and conversions.\n\n\n\n\nSetting Up Campaigns: Get hands-on guidance on creating and launching campaigns in Facebook Ads Manager\, including ad placement\, budget allocation\, and bidding strategies.\n\n\n\n\nMonitoring & Optimising Performance: Learn how to track key metrics\, analyse results\, and adjust campaigns to improve ROI and achieve better outcomes.
URL:https://www.launchpadsouthend.co.uk/event/social-media-advanced-paid-ads-on-facebook-instagram-3/
LOCATION:Online
CATEGORIES:Social Media
ATTACH;FMTTYPE=image/webp:https://www.launchpadsouthend.co.uk/wp-content/uploads/2026/04/original-6.webp
END:VEVENT
END:VCALENDAR