BEGIN:VCALENDAR
VERSION:2.0
PRODID:-//Launchpad Southend - ECPv6.15.20//NONSGML v1.0//EN
CALSCALE:GREGORIAN
METHOD:PUBLISH
X-ORIGINAL-URL:https://www.launchpadsouthend.co.uk
X-WR-CALDESC:Events for Launchpad Southend
REFRESH-INTERVAL;VALUE=DURATION:PT1H
X-Robots-Tag:noindex
X-PUBLISHED-TTL:PT1H
BEGIN:VTIMEZONE
TZID:UTC
BEGIN:STANDARD
TZOFFSETFROM:+0000
TZOFFSETTO:+0000
TZNAME:UTC
DTSTART:20250101T000000
END:STANDARD
END:VTIMEZONE
BEGIN:VEVENT
DTSTART;TZID=UTC:20260113T100000
DTEND;TZID=UTC:20260113T120000
DTSTAMP:20260419T175327
CREATED:20251124T154024Z
LAST-MODIFIED:20251124T154024Z
UID:1667-1768298400-1768305600@www.launchpadsouthend.co.uk
SUMMARY:A Guide to Managing the Risks of Social Media Workshop
DESCRIPTION:Do you understand how to tackle the risks of Social Media?\nSocial media can be a powerful tool – but it also comes with risks. Every business of every size is vulnerable to online abuse\, misinformation and reputational damage. The more platforms you use\, the greater the potential for things to go wrong. \nThis practical and engaging session will help you understand your legal and safeguarding responsibilities\, and how to manage your online presence with confidence. You’ll learn how good moderation not only protects your organisation but also builds trust\, encourages engagement and strengthens your brand. \nLed by experienced trainers\, this course will equip you with the tools to create safe\, inclusive and value-led online spaces. It will be a mix of discussion\, theory and hands-on demonstration. \nTo make this workshop as bespoke as possible we will ask you a few short questions when you register in order for us to understand the needs of the group\, but we will cover the following areas: \n\nModerating Facebook pages and groups\, including live moderation and banning users\nModeration tools across other social platforms including Instagram and X\nZoom moderation and how to manage meetings and webinars safely\nHow to respond to and manage reviews\, especially on Google and Facebook\nSetting a tone and policies that reflect your businesses’ values\nBalancing openness with safety in your online spaces\nUnderstanding the legal responsibilities around online activity\n\nThe session will also include a confidential Q&A – either in a group or one-to-one – where you can raise specific concerns or challenges you’ve faced. \nOur social media workshops are popular\, and places are limited\, so please book early to avoid disappointment.\nWho Should Attend\nThis training is for all staff who have responsibility for what is posted on social media\, either as part of their daily role or because they are in a management or CEO position. For organisations with Boards\, it also is aimed at trustees with legal responsibilities. No prior knowledge is required\, although some experience of using the platforms will be helpful for the hands-on demonstrations. \nWhat’s Included \n\nThe workshop lasts for 2 hours but attendees can stay on for a further 30 minutes for additional discussions and advice.\nAfter the workshop\, we will send you a pack containing all the advice\, tips and links discussed during the session.\nYou will also be able to pass on follow-up questions to our trainers\, SRX Consultancy\, who will offer practical support (via email or a quick call) to ensure you are able to put everything you learned into action.\n\nAbout the Trainers\nSRX Consultancy is a boutique PR\, social media and communications agency specialising in areas including charity and small business. Their bespoke and tailored training sessions have been running for 10 years – attended by staff from hundreds of charities\, organisations\, and small businesses\, always receiving positive feedback. This workshop will be delivered by Simon Rothstein and Lauren Soar. \nDate:   Tuesday 13 January 2026  10.00am – 12.00pm\nVirtual:  Zoom Platform\nCost to attend:  Members £95.00 + VAT and Non-Members £150.00 + VAT\nPlease note: This event will not be recorded and any material will only be circulated to those that attend
URL:https://www.launchpadsouthend.co.uk/event/a-guide-to-managing-the-risks-of-social-media-workshop/
LOCATION:Online
CATEGORIES:Social Media
ATTACH;FMTTYPE=image/png:https://www.launchpadsouthend.co.uk/wp-content/uploads/2025/11/23536d73853b5.png
END:VEVENT
END:VCALENDAR