BEGIN:VCALENDAR
VERSION:2.0
PRODID:-//Launchpad Southend - ECPv6.15.20//NONSGML v1.0//EN
CALSCALE:GREGORIAN
METHOD:PUBLISH
X-ORIGINAL-URL:https://www.launchpadsouthend.co.uk
X-WR-CALDESC:Events for Launchpad Southend
REFRESH-INTERVAL;VALUE=DURATION:PT1H
X-Robots-Tag:noindex
X-PUBLISHED-TTL:PT1H
BEGIN:VTIMEZONE
TZID:UTC
BEGIN:STANDARD
TZOFFSETFROM:+0000
TZOFFSETTO:+0000
TZNAME:UTC
DTSTART:20240101T000000
END:STANDARD
END:VTIMEZONE
BEGIN:VEVENT
DTSTART;TZID=UTC:20250707T110000
DTEND;TZID=UTC:20250707T120000
DTSTAMP:20260420T032137
CREATED:20250703T104931Z
LAST-MODIFIED:20250703T104931Z
UID:1396-1751886000-1751889600@www.launchpadsouthend.co.uk
SUMMARY:Managing social media channels on a budget
DESCRIPTION:Go from social media novice to social media ninja! Join us to learn how to increase your reach and grow your customers. \n\n\nWhat you’ll learn\n\n\nhow to create compelling content that not only engages\, but converts too\nthe role that emotions play in social media marketing\nhow to create content for international audiences without having to start new social media accounts\n\n\n\n\nDescription\n\nMaximise your online presence overseas without breaking the bank! \nThis hands-on session will provide practical tips and strategies to efficiently manage and grow your social media channels\, leveraging the key to success online. \nDesigned for both B2B and D2C businesses\, this workshop will help you to engage your audience\, create compelling content and measure your success\, all whilst thinking of your overseas audience and their journey to purchasing. \n\n\n\nSpeakers\n\nCharlie Garnham\nDigital Trade Adviser\, Department for Business and Trade \n\nCharlie loves talking about website UX\, international SEO\, social media presence and website localisation with her clients to ensure that they get the most out of their digital assets; whether they are selling direct to consumers or trading with distributors\, agents or partners overseas. From handbags to security gates\, biogas converters to recruitment services\, Charlie supports all types of businesses with their export journey. In her spare time\, she enjoys long walks in her local area and enjoying good food in the South West.
URL:https://www.launchpadsouthend.co.uk/event/managing-social-media-channels-on-a-budget/
LOCATION:Online
CATEGORIES:Online Event,Social Media
ATTACH;FMTTYPE=image/png:https://www.launchpadsouthend.co.uk/wp-content/uploads/2025/07/16x9400px-laptop-v2.original_wvkvY6f.max-800x60.original.png
END:VEVENT
END:VCALENDAR