BEGIN:VCALENDAR
VERSION:2.0
PRODID:-//Launchpad Southend - ECPv6.15.20//NONSGML v1.0//EN
CALSCALE:GREGORIAN
METHOD:PUBLISH
X-ORIGINAL-URL:https://www.launchpadsouthend.co.uk
X-WR-CALDESC:Events for Launchpad Southend
REFRESH-INTERVAL;VALUE=DURATION:PT1H
X-Robots-Tag:noindex
X-PUBLISHED-TTL:PT1H
BEGIN:VTIMEZONE
TZID:UTC
BEGIN:STANDARD
TZOFFSETFROM:+0000
TZOFFSETTO:+0000
TZNAME:UTC
DTSTART:20250101T000000
END:STANDARD
END:VTIMEZONE
BEGIN:VEVENT
DTSTART;TZID=UTC:20260218T100000
DTEND;TZID=UTC:20260218T110000
DTSTAMP:20260419T132916
CREATED:20260202T133517Z
LAST-MODIFIED:20260202T133517Z
UID:1744-1771408800-1771412400@www.launchpadsouthend.co.uk
SUMMARY:Better You\, Better Business
DESCRIPTION:When you’re running a small business\, the ability to listen\, truly listen\, can make the difference between clarity and confusion\, alignment and tension\, progress and burnout. \nYet unspoken assumptions\, mental clutter\, and rushed conversations often get in the way\, draining your energy and undermining performance. \nThis month\, we’re stripping listening back to its essentials. \n\nBeyond Hearing: The Power of Focused Listening\nA Grounded Approach to Listening to Others\, and Yourself\, for Better Decisions\n\nJoin us for a powerful\, practical session designed to help you shift from passive hearing to Focused Listening\, so you can make better decisions\, build stronger relationships\, and lead with greater confidence and wellbeing. \nIn this session\, you’ll learn how to: \n\nReduce overwhelm by recognising and clearing limiting internal narratives.\nUnderstand what’s really being communicated by listening beneath the surface of clients\, staff\, and partners.\nStrengthen decision-making through intentional\, grounded\, present communication.\nBuild resilience using wellbeing-focused listening techniques that support both personal and business growth.\nCome away with practical tools you can apply immediately—in conversations\, in leadership\, and within yourself.\n\nOur speaker for February will be Alison Theaker from Live Life For Me. \n \nAlison has 30 years’ experience in public relations and management as a practitioner\, academic\, and author. In 2009\, she founded The Spark to help small businesses and sole traders reach their full potential. \nHer Public Relations Handbook (7th edition\, 2024) is widely used on UK undergraduate PR courses. She completed an MPhil in 2023 on mentoring for women entrepreneurs in rural areas\, tutors marketing apprentices at Cambridge Marketing College\, and is an adjunct lecturer at Exeter University. \nWith colleague Anne Hope\, Alison develops courses and resources supporting women through menopause\, including the 5-session online course Menopause Redefined\, in partnership with holistic GP Dr Johanneke Kodde. \nMeet your host: \n \nAnna M Stapleton Mental & Emotional Resilience Coach\, is committed to elevating health\, wellbeing\, and personal development within the small business community. Anna empowers entrepreneurs to develop emotional intelligence\, embrace accountability\, and unlock their potential\, for themselves\, their teams\, and their businesses. \nSecure your place today and take the next step toward clearer communication\, confident decision-making\, and a stronger\, more resilient you.
URL:https://www.launchpadsouthend.co.uk/event/better-you-better-business/
LOCATION:Online
CATEGORIES:Learning and development,Online Event
ATTACH;FMTTYPE=image/webp:https://www.launchpadsouthend.co.uk/wp-content/uploads/2026/02/MCNTZ3WJEDENGU7EREZ5UC5LYH6E.webp
END:VEVENT
END:VCALENDAR